BEGIN:VCALENDAR
VERSION:2.0
PRODID:-//CFTC Kiloutou - ECPv6.15.20//NONSGML v1.0//EN
CALSCALE:GREGORIAN
METHOD:PUBLISH
X-ORIGINAL-URL:https://cftc-kiloutou.fr
X-WR-CALDESC:Évènements pour CFTC Kiloutou
REFRESH-INTERVAL;VALUE=DURATION:PT1H
X-Robots-Tag:noindex
X-PUBLISHED-TTL:PT1H
BEGIN:VTIMEZONE
TZID:Europe/Paris
BEGIN:DAYLIGHT
TZOFFSETFROM:+0100
TZOFFSETTO:+0200
TZNAME:CEST
DTSTART:20180325T010000
END:DAYLIGHT
BEGIN:STANDARD
TZOFFSETFROM:+0200
TZOFFSETTO:+0100
TZNAME:CET
DTSTART:20181028T010000
END:STANDARD
BEGIN:DAYLIGHT
TZOFFSETFROM:+0100
TZOFFSETTO:+0200
TZNAME:CEST
DTSTART:20190331T010000
END:DAYLIGHT
BEGIN:STANDARD
TZOFFSETFROM:+0200
TZOFFSETTO:+0100
TZNAME:CET
DTSTART:20191027T010000
END:STANDARD
BEGIN:DAYLIGHT
TZOFFSETFROM:+0100
TZOFFSETTO:+0200
TZNAME:CEST
DTSTART:20200329T010000
END:DAYLIGHT
BEGIN:STANDARD
TZOFFSETFROM:+0200
TZOFFSETTO:+0100
TZNAME:CET
DTSTART:20201025T010000
END:STANDARD
BEGIN:DAYLIGHT
TZOFFSETFROM:+0100
TZOFFSETTO:+0200
TZNAME:CEST
DTSTART:20210328T010000
END:DAYLIGHT
BEGIN:STANDARD
TZOFFSETFROM:+0200
TZOFFSETTO:+0100
TZNAME:CET
DTSTART:20211031T010000
END:STANDARD
END:VTIMEZONE
BEGIN:VEVENT
DTSTART;TZID=Europe/Paris:20200206T133000
DTEND;TZID=Europe/Paris:20200206T170000
DTSTAMP:20260424T200011
CREATED:20200202T121507Z
LAST-MODIFIED:20200202T121507Z
UID:5557-1580995800-1581008400@cftc-kiloutou.fr
SUMMARY:Négociation Télétravail
DESCRIPTION:Partager :Tweet\n				Imprimer(ouvre dans une nouvelle fenêtre)\n				Imprimer
URL:https://cftc-kiloutou.fr/event/negociation-teletravail-2/
LOCATION:Kiloutou – Siège Social\, 1 rue des Précurseurs\, Villeneuve d'Ascq\, 59664\, France
END:VEVENT
BEGIN:VEVENT
DTSTART;TZID=Europe/Paris:20200206T133000
DTEND;TZID=Europe/Paris:20200206T170000
DTSTAMP:20260424T200011
CREATED:20200202T121313Z
LAST-MODIFIED:20200202T121353Z
UID:5555-1580995800-1581008400@cftc-kiloutou.fr
SUMMARY:Négociation Parcours Collaborateur J2
DESCRIPTION:le Jeudi 06 février 2020 à partir de 13h30 \nsiège social (1 rue des Précurseurs 59664 Villeneuve d’Ascq) en salle R.0.1. \n  \nPartager :Tweet\n				Imprimer(ouvre dans une nouvelle fenêtre)\n				Imprimer
URL:https://cftc-kiloutou.fr/event/negociation-parcours-collaborateur-j2/
LOCATION:Kiloutou – Siège Social\, 1 rue des Précurseurs\, Villeneuve d'Ascq\, 59664\, France
ORGANIZER;CN="Jacques CROCCEL":MAILTO:jcroccel@gmail.com
END:VEVENT
BEGIN:VEVENT
DTSTART;TZID=Europe/Paris:20200128T100000
DTEND;TZID=Europe/Paris:20200128T170000
DTSTAMP:20260424T200011
CREATED:20200108T211600Z
LAST-MODIFIED:20200108T211653Z
UID:5519-1580205600-1580230800@cftc-kiloutou.fr
SUMMARY:CSE
DESCRIPTION:Partager :Tweet\n				Imprimer(ouvre dans une nouvelle fenêtre)\n				Imprimer
URL:https://cftc-kiloutou.fr/event/cse/
LOCATION:Kiloutou – Siège Social\, 1 rue des Précurseurs\, Villeneuve d'Ascq\, 59664\, France
END:VEVENT
BEGIN:VEVENT
DTSTART;TZID=Europe/Paris:20200122T100000
DTEND;TZID=Europe/Paris:20200122T170000
DTSTAMP:20260424T200011
CREATED:20200108T212121Z
LAST-MODIFIED:20200108T212127Z
UID:5523-1579687200-1579712400@cftc-kiloutou.fr
SUMMARY:Négociation Parcours Collaborateur
DESCRIPTION:Partager :Tweet\n				Imprimer(ouvre dans une nouvelle fenêtre)\n				Imprimer
URL:https://cftc-kiloutou.fr/event/negociation-parcours-collaborateur/
LOCATION:Kiloutou – Siège Social\, 1 rue des Précurseurs\, Villeneuve d'Ascq\, 59664\, France
END:VEVENT
BEGIN:VEVENT
DTSTART;TZID=Europe/Paris:20200122T100000
DTEND;TZID=Europe/Paris:20200122T170000
DTSTAMP:20260424T200011
CREATED:20200108T211820Z
LAST-MODIFIED:20200108T211820Z
UID:5521-1579687200-1579712400@cftc-kiloutou.fr
SUMMARY:Négociation Télétravail
DESCRIPTION:Partager :Tweet\n				Imprimer(ouvre dans une nouvelle fenêtre)\n				Imprimer
URL:https://cftc-kiloutou.fr/event/negociation-teletravail/
LOCATION:Kiloutou – Siège Social\, 1 rue des Précurseurs\, Villeneuve d'Ascq\, 59664\, France
END:VEVENT
BEGIN:VEVENT
DTSTART;TZID=Europe/Paris:20191217T100000
DTEND;TZID=Europe/Paris:20191217T170000
DTSTAMP:20260424T200011
CREATED:20190726T140321Z
LAST-MODIFIED:20190726T142601Z
UID:4979-1576576800-1576602000@cftc-kiloutou.fr
SUMMARY:Réunion CSE 17/12/2019
DESCRIPTION:Partager :Tweet\n				Imprimer(ouvre dans une nouvelle fenêtre)\n				Imprimer
URL:https://cftc-kiloutou.fr/event/reunion-cse-17-12-2019/
CATEGORIES:Réunion CSE Kiloutou
END:VEVENT
BEGIN:VEVENT
DTSTART;TZID=Europe/Paris:20191126T100000
DTEND;TZID=Europe/Paris:20191126T170000
DTSTAMP:20260424T200011
CREATED:20190726T140205Z
LAST-MODIFIED:20190726T142635Z
UID:4977-1574762400-1574787600@cftc-kiloutou.fr
SUMMARY:Réunion CSE 26/11/2019
DESCRIPTION:Partager :Tweet\n				Imprimer(ouvre dans une nouvelle fenêtre)\n				Imprimer
URL:https://cftc-kiloutou.fr/event/reunion-cse-26-11-2019/
CATEGORIES:Réunion CSE Kiloutou
END:VEVENT
BEGIN:VEVENT
DTSTART;TZID=Europe/Paris:20191029T100000
DTEND;TZID=Europe/Paris:20191029T170000
DTSTAMP:20260424T200011
CREATED:20190726T140022Z
LAST-MODIFIED:20190726T142702Z
UID:4975-1572343200-1572368400@cftc-kiloutou.fr
SUMMARY:Réunion CSE 29/10/2019
DESCRIPTION:Partager :Tweet\n				Imprimer(ouvre dans une nouvelle fenêtre)\n				Imprimer
URL:https://cftc-kiloutou.fr/event/reunion-cse-29-10-2019/
CATEGORIES:Réunion CSE Kiloutou
END:VEVENT
BEGIN:VEVENT
DTSTART;TZID=Europe/Paris:20191028T100000
DTEND;TZID=Europe/Paris:20191028T170000
DTSTAMP:20260424T200011
CREATED:20190726T135854Z
LAST-MODIFIED:20190726T142720Z
UID:4973-1572256800-1572282000@cftc-kiloutou.fr
SUMMARY:Réunion CSE 28/10/2019
DESCRIPTION:Partager :Tweet\n				Imprimer(ouvre dans une nouvelle fenêtre)\n				Imprimer
URL:https://cftc-kiloutou.fr/event/reunion-cse-28-10-2019/
CATEGORIES:Réunion CSE Kiloutou
END:VEVENT
BEGIN:VEVENT
DTSTART;TZID=Europe/Paris:20190924T100000
DTEND;TZID=Europe/Paris:20190924T170000
DTSTAMP:20260424T200011
CREATED:20190726T135640Z
LAST-MODIFIED:20190726T142750Z
UID:4971-1569319200-1569344400@cftc-kiloutou.fr
SUMMARY:Réunion CSE 24/09/2019
DESCRIPTION:Partager :Tweet\n				Imprimer(ouvre dans une nouvelle fenêtre)\n				Imprimer
URL:https://cftc-kiloutou.fr/event/reunion-cse-24-09-2019/
CATEGORIES:Réunion CSE Kiloutou
END:VEVENT
BEGIN:VEVENT
DTSTART;TZID=Europe/Paris:20190920T103000
DTEND;TZID=Europe/Paris:20190920T120000
DTSTAMP:20260424T200011
CREATED:20190919T082100Z
LAST-MODIFIED:20190919T090104Z
UID:5063-1568975400-1568980800@cftc-kiloutou.fr
SUMMARY:Reunion CSE 20/09/2019
DESCRIPTION: Information et consultation sur un projet de croissance externe.\n Informations et questions diverses. \nPartager :Tweet\n				Imprimer(ouvre dans une nouvelle fenêtre)\n				Imprimer
URL:https://cftc-kiloutou.fr/event/reunion-cse-20-09-2019/
LOCATION:Kiloutou – Siège Social\, 1 rue des Précurseurs\, Villeneuve d'Ascq\, 59664\, France
CATEGORIES:Réunion CSE Kiloutou
END:VEVENT
BEGIN:VEVENT
DTSTART;TZID=Europe/Paris:20190910T090000
DTEND;TZID=Europe/Paris:20190910T120000
DTSTAMP:20260424T200011
CREATED:20190827T072650Z
LAST-MODIFIED:20190827T145104Z
UID:5027-1568106000-1568116800@cftc-kiloutou.fr
SUMMARY:Réunion Syndicale CFTC Kiloutou
DESCRIPTION:Partager :Tweet\n				Imprimer(ouvre dans une nouvelle fenêtre)\n				Imprimer
URL:https://cftc-kiloutou.fr/event/reunion-syndicale-cftc-kiloutou/
LOCATION:Local Syndical CFTC Kiloutou\, 1205 Rue du Chemin vert\, FRETIN\, 59273
CATEGORIES:Réunion Syndicale CFTC Kiloutou
ORGANIZER;CN="Jacques CROCCEL":MAILTO:jcroccel@gmail.com
END:VEVENT
BEGIN:VEVENT
DTSTART;TZID=Europe/Paris:20190816T143000
DTEND;TZID=Europe/Paris:20190816T153000
DTSTAMP:20260424T200011
CREATED:20190731T123543Z
LAST-MODIFIED:20190731T123604Z
UID:5004-1565965800-1565969400@cftc-kiloutou.fr
SUMMARY:Réunion CSE exceptionnel 16/08/2019
DESCRIPTION:Partager :Tweet\n				Imprimer(ouvre dans une nouvelle fenêtre)\n				Imprimer
URL:https://cftc-kiloutou.fr/event/reunion-cse-exceptionnel-16-08-2019/
LOCATION:Kiloutou – Siège Social\, 1 rue des Précurseurs\, Villeneuve d'Ascq\, 59664\, France
CATEGORIES:Réunion CSE Kiloutou
END:VEVENT
BEGIN:VEVENT
DTSTART;TZID=Europe/Paris:20190730T100000
DTEND;TZID=Europe/Paris:20190730T170000
DTSTAMP:20260424T200011
CREATED:20190726T073432Z
LAST-MODIFIED:20190726T142821Z
UID:4934-1564480800-1564506000@cftc-kiloutou.fr
SUMMARY:Réunion CSE 30/07/2019
DESCRIPTION:Mardi 30 juillet 2019 à 10h00\nEn notre site de Central ParK (salle RDC R0.7)\n1 rue des précurseurs – 59664 VILLENEUVE D’ASCQ \nL’ordre du jour de cette réunion sera le suivant :  \n\nValidation du PV de la réunion du 11 juin 2019\nValidation du PV de la réunion du  16 juillet 2019\nInformation et consultation sur la politique sociale de l’entreprise – volet 1\n\nLa durée du travail en 2018\nLe bilan du plan de formation de l’année 2018 et point au 31 mai 2019\nLes orientations de la formation professionnelle pour l’exercice 2020\n\n\nInformation et consultation sur la réorganisation du réseau\nInformation et consultation sur un projet de création d’une filiale dédiée à une nouvelle activité au sein du groupe\nInformation et consultation sur la mise en place d’un système de vidéosurveillance sur le site de Herblay\nInformation et consultation sur la mise en place d’un système de vidéosurveillance sur le site d’Ingré\nInformation et consultation sur la mise en place d’un système de vidéosurveillance sur le site de Roissy\nInformation et consultation sur la mise en place d’un système de vidéosurveillance sur le site de Coignières\nInformation et consultation sur le projet de licenciement pour inaptitude physique non professionnelle avec impossibilité de reclassement de Monsieur F. G.\, ancien délégué du personnel suppléant (sous l’étiquette syndicale C.F.T.C.) pour les sites de KILOUTOU de Noyelles/Arras/Lens/Béthune/ Béthune TP/ Loison-sous-Lens/Arras TP\, dont le mandat a pris fin le 16 juin 2019. (voir pièce jointe)\nInformation et consultation sur les objectifs de la prime de progrès (intéressement) pour les mois de juillet\, août et septembre 2019. (3ème trimestre 2019)\nInformations et questions diverses :\n\nModalité de choix du prestataire pour Noël 2019\nNouvelles propositions linéaires Hiver 2019-2020\nDéfinition de l’abondement pour les linéaires choisis (Validation ou non le fait d’utiliser le coefficient familial)\nOffre Disney de janvier abondement QF sur les “forfaits repas”\n\n\n\nLien vers les PV de CE (adhérents CFTC Kiloutou) \n  \n  \nPartager :Tweet\n				Imprimer(ouvre dans une nouvelle fenêtre)\n				Imprimer
URL:https://cftc-kiloutou.fr/event/reunion-cse-30-07-2019/
LOCATION:Kiloutou – Siège Social\, 1 rue des Précurseurs\, Villeneuve d'Ascq\, 59664\, France
CATEGORIES:Réunion CSE Kiloutou
END:VEVENT
BEGIN:VEVENT
DTSTART;TZID=Europe/Paris:20190716T133000
DTEND;TZID=Europe/Paris:20190716T173000
DTSTAMP:20260424T200011
CREATED:20190726T062734Z
LAST-MODIFIED:20190726T100209Z
UID:4927-1563283800-1563298200@cftc-kiloutou.fr
SUMMARY:Réunion CSE 20190716
DESCRIPTION:L’ordre du jour de cette réunion sera le suivant :  \n\nInformations générales du rôle et des missions du CSE\nElections des membres du bureau du CSE\n\nSecrétaire du CSE\nSecrétaire Adjoint du CSE\nTrésorier du CSE\nTrésorier Adjoint du CSE\n\n\nRemise et présentation d’une documentation juridique\, économique et financière sur l’entreprise\nPrésentation de la Base de données économiques et sociales (BDES) et signature de la charte d’utilisation\nInformation sur le calendrier prévisionnel des réunions du CSE et sur le calendrier social du CSE\nInformation et consultation sur la procédure engagée suite à la déclaration d’inaptitude de Monsieur J.P. C.\nInformation et consultation sur la procédure engagée suite à la déclaration d’inaptitude de Monsieur F. G.\nInformation et consultation sur la procédure engagée suite à la déclaration d’inaptitude de Monsieur O. G.\nInformation et consultation sur la procédure engagée suite à la déclaration d’inaptitude de Monsieur S. F.\nInformation et consultation sur la procédure engagée suite à la déclaration d’inaptitude de Monsieur S. B.\nInformation sur le budget du CSE\nInformations et questions diverses :\n\nValidation de linéaires Hiver 2019 et Eté 2020 (Camping de la Rive)\nValidation de l’organisme de veille juridique du CSE\n\n\n\nLien vers les PV de CE (adhérents CFTC Kiloutou) \n  \nPartager :Tweet\n				Imprimer(ouvre dans une nouvelle fenêtre)\n				Imprimer
URL:https://cftc-kiloutou.fr/event/reunion-cse-20190716/
LOCATION:Kiloutou – Siège Social\, 1 rue des Précurseurs\, Villeneuve d'Ascq\, 59664\, France
CATEGORIES:Réunion CSE Kiloutou
END:VEVENT
END:VCALENDAR